BEGIN:VCALENDAR
VERSION:2.0
PRODID:-//wp-events-plugin.com//7.2.3.1//EN
TZID:Europe/Berlin
X-WR-TIMEZONE:Europe/Berlin
BEGIN:VEVENT
UID:4@jenniferhoerl.de
DTSTART;TZID=Europe/Berlin:20230303T183000
DTEND;TZID=Europe/Berlin:20230303T213000
DTSTAMP:20230206T115029Z
URL:https://jenniferhoerl.de/veranstaltungen/hand-brushlettering-fortgesch
 ritten-lettering-workshop/
SUMMARY:Hand- & Brushlettering Fortgeschritten - Lettering Workshop
DESCRIPTION:Dir sind die Grundlagen des Hand- und Brushletterings zum Beisp
 iel aus meinem Starter Workshop bekannt und du hast Lust auf neuen Input?\
 nIn 3 Stunden kreativer Me-Time heben wir deine Lettering-Skills auf ein n
 eues Level.\n\nWorkshopinhalte\n\n 	Wiederholung der Grundlagen\n 	Trouble
 shooting für ungeliebte Buchstaben\n 	Buchstabenverbindungen\n 	Schattene
 ffekte\n 	Neue Schriftarten- und Stile\n 	Layoutregeln\n\nIn deiner persö
 nlichen Kreativ-Box befinden sich alle hochwertigen Materialen\, die du be
 nötigst\, sowie ein ausführlicher Guide. In der kleinen Gruppe ist viel 
 Zeit für individuelle Hilfestellung\, Tipps und Tricks.
ATTACH;FMTTYPE=image/jpeg:https://jenniferhoerl.de/wp-content/uploads/2023
 /01/Workshop_Lettertimes_Foto_Stephanie_Robinson153539.jpg
CATEGORIES:Jennifer Hörl,lettertimes
LOCATION:Kreativ am Hof\, Am Hof 15\, Weißenburg\, Bayern\, 91781\, Deutsc
 hland
X-APPLE-STRUCTURED-LOCATION;VALUE=URI;X-ADDRESS=Am Hof 15\, Weißenburg\, B
 ayern\, 91781\, Deutschland;X-APPLE-RADIUS=100;X-TITLE=Kreativ am Hof:geo:
 0,0
END:VEVENT
BEGIN:VTIMEZONE
TZID:Europe/Berlin
X-LIC-LOCATION:Europe/Berlin
BEGIN:STANDARD
DTSTART:20221030T020000
TZOFFSETFROM:+0200
TZOFFSETTO:+0100
TZNAME:CET
END:STANDARD
END:VTIMEZONE
END:VCALENDAR