BEGIN:VCALENDAR
VERSION:2.0
PRODID:-//wp-events-plugin.com//7.2.3.1//EN
TZID:Europe/Berlin
X-WR-TIMEZONE:Europe/Berlin
BEGIN:VEVENT
UID:15@jenniferhoerl.de
DTSTART;TZID=Europe/Berlin:20230301T190000
DTEND;TZID=Europe/Berlin:20230301T210000
DTSTAMP:20230216T094100Z
URL:https://jenniferhoerl.de/veranstaltungen/klangschalen-meets-aetherisch
 e-oele-3/
SUMMARY:Klangschalen meets ätherische Öle
DESCRIPTION:Erlebe diese entspannende Kombination und nimm dir eine Verwöh
 nzeit für DICH. Mach es dir auf deiner Decke bequem und genieße die sinn
 liche Reise.
ATTACH;FMTTYPE=image/jpeg:https://jenniferhoerl.de/wp-content/uploads/2023
 /01/whatsapp-image-2023-01-08-at-20.22.09.jpeg
CATEGORIES:Jennifer Hörl
LOCATION:Bürgerhaus Pleinfeld\, Kirchenpl. 1\, Pleinfeld\, 91785\, Bayern\
 , Deutschland
X-APPLE-STRUCTURED-LOCATION;VALUE=URI;X-ADDRESS=Kirchenpl. 1\, Pleinfeld\, 
 91785\, Bayern\, Deutschland;X-APPLE-RADIUS=100;X-TITLE=Bürgerhaus Pleinf
 eld:geo:0,0
END:VEVENT
BEGIN:VTIMEZONE
TZID:Europe/Berlin
X-LIC-LOCATION:Europe/Berlin
BEGIN:STANDARD
DTSTART:20221030T020000
TZOFFSETFROM:+0200
TZOFFSETTO:+0100
TZNAME:CET
END:STANDARD
END:VTIMEZONE
END:VCALENDAR