BEGIN:VCALENDAR
VERSION:2.0
PRODID:-//wp-events-plugin.com//7.2.3.1//EN
TZID:Europe/Berlin
X-WR-TIMEZONE:Europe/Berlin
BEGIN:VEVENT
UID:25@jenniferhoerl.de
DTSTART;TZID=Europe/Berlin;VALUE=DATE:20240314
DTEND;TZID=Europe/Berlin;VALUE=DATE:20240321
DTSTAMP:20250613T141259Z
URL:https://jenniferhoerl.de/veranstaltungen/selfcarewoche-fuer-neukunden-
 doterra-unverbindlich-testen-november-2023/
SUMMARY:Selfcarewoche für Neukunden - dōTERRA unverbindlich testen
DESCRIPTION:Die Öle von dōTERRA unverbindlich testen\nLerne die ätherisc
 hen Öle von dōTERRA kennen.\n\nDu bekommst:\n\n 	7 Ölproben\n 	Begleitu
 ng in einer WhatsApp Gruppe\n 	einfache Alltagsroutinen für dich &amp\; d
 ie ganze Familie\n 	Anwendungsideen für typische Familienthemen\n 	Alle B
 asic Infos zu ätherischen Ölen\n\nAuf was wartest du?
ATTACH;FMTTYPE=image/jpeg:https://jenniferhoerl.de/wp-content/uploads/2024
 /09/dsc02412.jpeg
CATEGORIES:Jennifer Hörl,Öliversum,Selfcare Woche
LOCATION:http://www.oeliversum.de/team/jennifer
END:VEVENT
BEGIN:VTIMEZONE
TZID:Europe/Berlin
X-LIC-LOCATION:Europe/Berlin
BEGIN:STANDARD
DTSTART:20231029T020000
TZOFFSETFROM:+0200
TZOFFSETTO:+0100
TZNAME:CET
END:STANDARD
END:VTIMEZONE
END:VCALENDAR