BEGIN:VCALENDAR
VERSION:2.0
PRODID:-//wp-events-plugin.com//7.2.3.1//EN
TZID:Europe/Berlin
X-WR-TIMEZONE:Europe/Berlin
BEGIN:VEVENT
UID:35@jenniferhoerl.de
DTSTART;TZID=Europe/Berlin:20250301T100000
DTEND;TZID=Europe/Berlin:20250301T170000
DTSTAMP:20250105T124020Z
URL:https://jenniferhoerl.de/veranstaltungen/spring-2025-nuernberg-germany
 /
SUMMARY:Spring 2025 - Nürnberg\, Germany
DESCRIPTION:Join our Team bei der dōTERRA Spring Tour in Nürnberg\n\nFür
  Öle-Begeisterte und alle\, die es werden wollen: Seien Sie dabei\, wenn 
 die dōTERRA Spring Tour 2025 in Ihre Region kommt!\n\nEnergie für Ihren 
 Geist\n\nAuch im Jahr 2025 kehren wir mit den dōTERRA Spring Tour Events 
 zurück und legen den Fokus auf die zentralen Elemente eines erfüllten Le
 bens. Es ist Zeit\, neue Ideen zu erschaffen und Routinen weiterzuentwicke
 ln. Genau wie die Natur\, können auch wir neu beginnen. Die eigenen Morge
 n-oder Abendgewohnheiten aufzufrischen ist gesund. Also seien Sie dabei un
 d stärken Sie Ihr Mindset mit der richtigen Energie für ein neues Jahr.\
 n\nEnergie für Ihren Körper\n\nErnährung und Verdauung stehen im Mittel
 punkt des dōTERRA Wellness-Charts. Wir sind\, was wir essen. Neben vollwe
 rtigen Lebensmitteln und Bewegung stellt sich die Frage: Wie können wir d
 ie dōTERRA-Produkte optimal nutzen\, um in einer Zeit des Wachstums aufzu
 blühen? Schon die kleinste Veränderung kann Ihre Routine stärken und Ih
 rem Körper ein Leben lang zugutekommen.\n\nEnergie für Ihre Seele\n\nJed
 e Faser Ihres Wesens macht Sie aus. Deshalb ist es essenziell\, Ihre Seele
  mit der richtigen Energie zu nähren – für all das\, was dōTERRA Ihne
 n 2025 bieten wird. Die Spring Events führen uns zurück zu den Grundlage
 n und laden uns ein\, uns neu aufzustellen und darüber nachzudenken\, wie
  wir gewachsen sind. Lassen Sie uns den Frühling gemeinsam begrüßen und
  mit ihm das Potenzial für Veränderung.\n\nWir freuen uns auf Sie!\n\n&n
 bsp\;\nSpring 2025 - Nürnberg\, Germany\nARVENA PARK - Das Hotel am Frank
 en-Center GmbH\nGörlitzer Straße 51 90473 Nürnberg\n\n&nbsp\;\n\nTicket
 s online:\n\nhttps://www.eventbrite.de/e/spring-2025-nurnberg-germany-tick
 ets-1106360085799?aff=ebdsoporgprofile&amp\;keep_tld=1\n\n&nbsp\;
ATTACH;FMTTYPE=image/jpeg:https://jenniferhoerl.de/wp-content/uploads/2025
 /01/https-cdn.evbuc_.com-images-910523543-574506112675-1-original.20241203
 -102136.jpeg
CATEGORIES:dōTERRA Veranstaltung,Öliversum
LOCATION:ARVENA PARK - Das Hotel am Franken-Center GmbH\, Görlitzer Straß
 e 51\, Nürnberg\, Bayern\, 90473\, Deutschland
X-APPLE-STRUCTURED-LOCATION;VALUE=URI;X-ADDRESS=Görlitzer Straße 51\, Nü
 rnberg\, Bayern\, 90473\, Deutschland;X-APPLE-RADIUS=100;X-TITLE=ARVENA PA
 RK - Das Hotel am Franken-Center GmbH:geo:0,0
END:VEVENT
BEGIN:VTIMEZONE
TZID:Europe/Berlin
X-LIC-LOCATION:Europe/Berlin
BEGIN:STANDARD
DTSTART:20241027T020000
TZOFFSETFROM:+0200
TZOFFSETTO:+0100
TZNAME:CET
END:STANDARD
END:VTIMEZONE
END:VCALENDAR